BEGIN:VCALENDAR
VERSION:2.0
PRODID:-//Bogue Sound Distillery - ECPv6.15.20//NONSGML v1.0//EN
CALSCALE:GREGORIAN
METHOD:PUBLISH
X-WR-CALNAME:Bogue Sound Distillery
X-ORIGINAL-URL:https://boguesounddistillery.com
X-WR-CALDESC:Events for Bogue Sound Distillery
REFRESH-INTERVAL;VALUE=DURATION:PT1H
X-Robots-Tag:noindex
X-PUBLISHED-TTL:PT1H
BEGIN:VTIMEZONE
TZID:America/New_York
BEGIN:DAYLIGHT
TZOFFSETFROM:-0500
TZOFFSETTO:-0400
TZNAME:EDT
DTSTART:20250309T070000
END:DAYLIGHT
BEGIN:STANDARD
TZOFFSETFROM:-0400
TZOFFSETTO:-0500
TZNAME:EST
DTSTART:20251102T060000
END:STANDARD
BEGIN:DAYLIGHT
TZOFFSETFROM:-0500
TZOFFSETTO:-0400
TZNAME:EDT
DTSTART:20260308T070000
END:DAYLIGHT
BEGIN:STANDARD
TZOFFSETFROM:-0400
TZOFFSETTO:-0500
TZNAME:EST
DTSTART:20261101T060000
END:STANDARD
BEGIN:DAYLIGHT
TZOFFSETFROM:-0500
TZOFFSETTO:-0400
TZNAME:EDT
DTSTART:20270314T070000
END:DAYLIGHT
BEGIN:STANDARD
TZOFFSETFROM:-0400
TZOFFSETTO:-0500
TZNAME:EST
DTSTART:20271107T060000
END:STANDARD
END:VTIMEZONE
BEGIN:VEVENT
DTSTART;TZID=America/New_York:20260110T180000
DTEND;TZID=America/New_York:20260110T230000
DTSTAMP:20260420T073648
CREATED:20251223T200155Z
LAST-MODIFIED:20251223T200155Z
UID:11637-1768068000-1768086000@boguesounddistillery.com
SUMMARY:Bryon Hoff & The Altar Ratz Live plus Capone's A Taste of Philly
DESCRIPTION: Capone’s A Taste of Philly: 6pm-8pm.  \nBryon Hoff & The Altar Ratz LIVE : 7pm – 10pm. \nAs always\, we’ll be serving beer\, wine\, and our own in-house-crafted spirits until 11! See you soon!.
URL:https://boguesounddistillery.com/event/bryon-hoff-the-altar-ratz-live-plus-capones-a-taste-of-philly/
LOCATION:Bogue Sound Distillery\, 108 Bogue Commercial Dr\, Bogue\, NC\, 28570\, United States
CATEGORIES:Live Music
ATTACH;FMTTYPE=image/png:https://boguesounddistillery.com/wp-content/uploads/2025/12/01.10.png
END:VEVENT
BEGIN:VEVENT
DTSTART;TZID=America/New_York:20260116T180000
DTEND;TZID=America/New_York:20260116T230000
DTSTAMP:20260420T073648
CREATED:20260106T133610Z
LAST-MODIFIED:20260106T133646Z
UID:11646-1768586400-1768604400@boguesounddistillery.com
SUMMARY:Robbie Alton Live plus Meraki Kafe
DESCRIPTION:Meraki Kafe 6pm-8pm  \nRobbie Alton LIVE : 7pm – 10pm. \nAs always\, we’ll be serving beer\, wine\, and our own in-house-crafted spirits until 11! See you soon!.
URL:https://boguesounddistillery.com/event/robbie-alton-live-plus-meraki-kafe/
LOCATION:Bogue Sound Distillery\, 108 Bogue Commercial Dr\, Bogue\, NC\, 28570\, United States
CATEGORIES:Live Music
ATTACH;FMTTYPE=image/png:https://boguesounddistillery.com/wp-content/uploads/2025/12/01.16.png
END:VEVENT
BEGIN:VEVENT
DTSTART;TZID=America/New_York:20260117T180000
DTEND;TZID=America/New_York:20260117T230000
DTSTAMP:20260420T073648
CREATED:20260106T133723Z
LAST-MODIFIED:20260106T133723Z
UID:11652-1768672800-1768690800@boguesounddistillery.com
SUMMARY:The Gas Money Band Live plus What's Jay Cook'n
DESCRIPTION:What’s Jay Cook’n 6pm-8pm  \nThe Gas Money Band LIVE : 7pm – 10pm. \nAs always\, we’ll be serving beer\, wine\, and our own in-house-crafted spirits until 11! See you soon!.
URL:https://boguesounddistillery.com/event/the-gas-money-band-live-plus-whats-jay-cookn-2/
LOCATION:Bogue Sound Distillery\, 108 Bogue Commercial Dr\, Bogue\, NC\, 28570\, United States
CATEGORIES:Live Music
ATTACH;FMTTYPE=image/png:https://boguesounddistillery.com/wp-content/uploads/2025/12/01.17.png
END:VEVENT
BEGIN:VEVENT
DTSTART;TZID=America/New_York:20260123T180000
DTEND;TZID=America/New_York:20260123T230000
DTSTAMP:20260420T073648
CREATED:20260113T151812Z
LAST-MODIFIED:20260121T165129Z
UID:11660-1769191200-1769209200@boguesounddistillery.com
SUMMARY:John G. Franklin plus Uncle Mann's Food Truck
DESCRIPTION:Uncle Mann’s Food Truck: 6pm – 8pm. \nJohn G. Franklin LIVE : 7pm – 10pm. \nAs always\, we’ll be serving beer\, wine\, and our own in-house-crafted spirits until 11! See you soon!.
URL:https://boguesounddistillery.com/event/elijah-harris-plus-uncle-manns-food-truck/
LOCATION:Bogue Sound Distillery\, 108 Bogue Commercial Dr\, Bogue\, NC\, 28570\, United States
CATEGORIES:Live Music
ATTACH;FMTTYPE=image/png:https://boguesounddistillery.com/wp-content/uploads/2026/01/01.16-1.png
END:VEVENT
BEGIN:VEVENT
DTSTART;TZID=America/New_York:20260124T180000
DTEND;TZID=America/New_York:20260124T230000
DTSTAMP:20260420T073648
CREATED:20260113T152059Z
LAST-MODIFIED:20260113T152059Z
UID:11663-1769277600-1769295600@boguesounddistillery.com
SUMMARY:Soul Syndicate Live plus The Angry Lobster
DESCRIPTION:The Angry Lobster: 6pm –  8pm.  \nSoul Syndicate LIVE : 7pm – 10pm. \nAs always\, we’ll be serving beer\, wine\, and our own in-house-crafted spirits until 11! See you soon!.
URL:https://boguesounddistillery.com/event/soul-syndicate-live-plus-the-angry-lobster/
LOCATION:Bogue Sound Distillery\, 108 Bogue Commercial Dr\, Bogue\, NC\, 28570\, United States
CATEGORIES:Live Music
ATTACH;FMTTYPE=image/png:https://boguesounddistillery.com/wp-content/uploads/2025/12/01.17-3.png
END:VEVENT
BEGIN:VEVENT
DTSTART;TZID=America/New_York:20260130T180000
DTEND;TZID=America/New_York:20260130T230000
DTSTAMP:20260420T073648
CREATED:20260113T152743Z
LAST-MODIFIED:20260113T152743Z
UID:11673-1769796000-1769814000@boguesounddistillery.com
SUMMARY:New Glasses Live plus Fancy Fries
DESCRIPTION:Fancy Fries: 6pm – 8pm  \n New Glasses LIVE : 7pm – 10pm. \nAs always\, we’ll be serving beer\, wine\, and our own in-house-crafted spirits until 11! See you soon!.
URL:https://boguesounddistillery.com/event/new-glasses-live-plus-fancy-fries/
LOCATION:Bogue Sound Distillery\, 108 Bogue Commercial Dr\, Bogue\, NC\, 28570\, United States
CATEGORIES:Live Music
ATTACH;FMTTYPE=image/png:https://boguesounddistillery.com/wp-content/uploads/2025/12/01.16-3.png
END:VEVENT
BEGIN:VEVENT
DTSTART;TZID=America/New_York:20260131T180000
DTEND;TZID=America/New_York:20260131T230000
DTSTAMP:20260420T073648
CREATED:20260113T152945Z
LAST-MODIFIED:20260113T152945Z
UID:11676-1769882400-1769900400@boguesounddistillery.com
SUMMARY:The Dirty Blonde Band Live plus Backwoods Bites
DESCRIPTION:Backwoods Bites: 6pm – 8pm.  \nThe Dirty Blonde Band LIVE : 7pm – 10pm. \nAs always\, we’ll be serving beer\, wine\, and our own in-house-crafted spirits until 11! See you soon!.
URL:https://boguesounddistillery.com/event/the-dirty-blonde-band-live-plus-backwoods-bites/
LOCATION:Bogue Sound Distillery\, 108 Bogue Commercial Dr\, Bogue\, NC\, 28570\, United States
CATEGORIES:Live Music
ATTACH;FMTTYPE=image/png:https://boguesounddistillery.com/wp-content/uploads/2025/12/01.17-5.png
END:VEVENT
BEGIN:VEVENT
DTSTART;TZID=America/New_York:20260201T150000
DTEND;TZID=America/New_York:20260201T170000
DTSTAMP:20260420T073648
CREATED:20260121T170824Z
LAST-MODIFIED:20260121T170824Z
UID:11701-1769958000-1769965200@boguesounddistillery.com
SUMMARY:Bluegrass Jam Open Mic. Hosted by Paul Winstead.
DESCRIPTION:Grab your instrument and be part of the Bluegrass Jam Open Mic on Sunday\, Feb 1st.  Hosted by Paul Winstead | 3–5 PM.
URL:https://boguesounddistillery.com/event/bluegrass-jam-open-mic-hosted-by-paul-winstead/
LOCATION:Bogue Sound Distillery\, 108 Bogue Commercial Dr\, Bogue\, NC\, 28570\, United States
CATEGORIES:Live Music
ATTACH;FMTTYPE=image/png:https://boguesounddistillery.com/wp-content/uploads/2026/01/1.png
END:VEVENT
BEGIN:VEVENT
DTSTART;TZID=America/New_York:20260206T180000
DTEND;TZID=America/New_York:20260206T230000
DTSTAMP:20260420T073648
CREATED:20260121T171638Z
LAST-MODIFIED:20260121T171638Z
UID:11710-1770400800-1770418800@boguesounddistillery.com
SUMMARY:Velvet Dagger Live
DESCRIPTION:Velvet Dagger LIVE : 7pm – 10pm. \nAs always\, we’ll be serving beer\, wine\, and our own in-house-crafted spirits until 11! See you soon!.
URL:https://boguesounddistillery.com/event/velvet-dagger-live/
LOCATION:Bogue Sound Distillery\, 108 Bogue Commercial Dr\, Bogue\, NC\, 28570\, United States
CATEGORIES:Live Music
ATTACH;FMTTYPE=image/png:https://boguesounddistillery.com/wp-content/uploads/2026/01/01.09.png
END:VEVENT
BEGIN:VEVENT
DTSTART;TZID=America/New_York:20260207T180000
DTEND;TZID=America/New_York:20260207T230000
DTSTAMP:20260420T073648
CREATED:20260121T172251Z
LAST-MODIFIED:20260121T172251Z
UID:11713-1770487200-1770505200@boguesounddistillery.com
SUMMARY:Southern Hellcats LIVE plus Meraki Kafe
DESCRIPTION:Meraki Kafe: 6pm – 8pm.  \nSouthern Hellcats LIVE : 7pm – 10pm. \nAs always\, we’ll be serving beer\, wine\, and our own in-house-crafted spirits until 11! See you soon!.
URL:https://boguesounddistillery.com/event/southern-hellcats-live-plus-meraki-kafe/
LOCATION:Bogue Sound Distillery\, 108 Bogue Commercial Dr\, Bogue\, NC\, 28570\, United States
CATEGORIES:Live Music
ATTACH;FMTTYPE=image/png:https://boguesounddistillery.com/wp-content/uploads/2026/01/01.10.png
END:VEVENT
BEGIN:VEVENT
DTSTART;TZID=America/New_York:20260213T180000
DTEND;TZID=America/New_York:20260213T230000
DTSTAMP:20260420T073648
CREATED:20260113T155905Z
LAST-MODIFIED:20260210T171440Z
UID:11722-1771005600-1771023600@boguesounddistillery.com
SUMMARY:Dino Pelletier’s East Coast Jam LIVE plus Richard on the Grill
DESCRIPTION:Richard is Grilling: 6pm – 8pm. \nDino Pelletier’s East Coast Jam LIVE : 7pm – 10pm. \nAs always\, we’ll be serving beer\, wine\, and our own in-house-crafted spirits until 11! See you soon!.
URL:https://boguesounddistillery.com/event/dino-pelletier-live-5/
LOCATION:Bogue Sound Distillery\, 108 Bogue Commercial Dr\, Bogue\, NC\, 28570\, United States
CATEGORIES:Live Music
ATTACH;FMTTYPE=image/png:https://boguesounddistillery.com/wp-content/uploads/2026/01/01.16-2-1.png
END:VEVENT
BEGIN:VEVENT
DTSTART;TZID=America/New_York:20260214T180000
DTEND;TZID=America/New_York:20260214T230000
DTSTAMP:20260420T073648
CREATED:20260127T022152Z
LAST-MODIFIED:20260206T011553Z
UID:11725-1771092000-1771110000@boguesounddistillery.com
SUMMARY:Salty Bones LIVE
DESCRIPTION:Salty Bones LIVE : 7pm – 10pm. \nAs always\, we’ll be serving beer\, wine\, and our own in-house-crafted spirits until 11! See you soon!.
URL:https://boguesounddistillery.com/event/salty-bones-live-8/
LOCATION:Bogue Sound Distillery\, 108 Bogue Commercial Dr\, Bogue\, NC\, 28570\, United States
CATEGORIES:Live Music
ATTACH;FMTTYPE=image/png:https://boguesounddistillery.com/wp-content/uploads/2026/01/01.17-6.png
END:VEVENT
BEGIN:VEVENT
DTSTART;TZID=America/New_York:20260220T180000
DTEND;TZID=America/New_York:20260220T230000
DTSTAMP:20260420T073648
CREATED:20260127T022318Z
LAST-MODIFIED:20260127T022318Z
UID:11734-1771610400-1771628400@boguesounddistillery.com
SUMMARY:Monika Jaymes LIVE
DESCRIPTION:Monika Jaymes LIVE : 7pm – 10pm. \nAs always\, we’ll be serving beer\, wine\, and our own in-house-crafted spirits until 11! See you soon!.
URL:https://boguesounddistillery.com/event/monika-jaymes-live-3/
LOCATION:Bogue Sound Distillery\, 108 Bogue Commercial Dr\, Bogue\, NC\, 28570\, United States
CATEGORIES:Live Music
ATTACH;FMTTYPE=image/png:https://boguesounddistillery.com/wp-content/uploads/2026/01/01.16-2.png
END:VEVENT
BEGIN:VEVENT
DTSTART;TZID=America/New_York:20260221T180000
DTEND;TZID=America/New_York:20260221T230000
DTSTAMP:20260420T073648
CREATED:20260127T022521Z
LAST-MODIFIED:20260127T022521Z
UID:11737-1771696800-1771714800@boguesounddistillery.com
SUMMARY:NRP Rhyme LIVE
DESCRIPTION:NRP Rhyme LIVE : 7pm – 10pm. \nAs always\, we’ll be serving beer\, wine\, and our own in-house-crafted spirits until 11! See you soon!.
URL:https://boguesounddistillery.com/event/nrp-rhyme-live/
LOCATION:Bogue Sound Distillery\, 108 Bogue Commercial Dr\, Bogue\, NC\, 28570\, United States
CATEGORIES:Live Music
ATTACH;FMTTYPE=image/png:https://boguesounddistillery.com/wp-content/uploads/2026/01/01.17-2.png
END:VEVENT
BEGIN:VEVENT
DTSTART;TZID=America/New_York:20260227T180000
DTEND;TZID=America/New_York:20260227T230000
DTSTAMP:20260420T073648
CREATED:20260127T022916Z
LAST-MODIFIED:20260127T022916Z
UID:11746-1772215200-1772233200@boguesounddistillery.com
SUMMARY:Bob Laverty LIVE
DESCRIPTION:Bob Laverty LIVE: 7pm – 10pm. \nAs always\, we’ll be serving beer\, wine\, and our own in-house-crafted spirits until 11! See you soon!.
URL:https://boguesounddistillery.com/event/bob-laverty-live-2/
LOCATION:Bogue Sound Distillery\, 108 Bogue Commercial Dr\, Bogue\, NC\, 28570\, United States
CATEGORIES:Live Music
ATTACH;FMTTYPE=image/png:https://boguesounddistillery.com/wp-content/uploads/2026/01/01.16-3.png
END:VEVENT
BEGIN:VEVENT
DTSTART;TZID=America/New_York:20260228T180000
DTEND;TZID=America/New_York:20260228T230000
DTSTAMP:20260420T073648
CREATED:20260127T022932Z
LAST-MODIFIED:20260127T022932Z
UID:11749-1772301600-1772319600@boguesounddistillery.com
SUMMARY:Dirty Blonde Band LIVE
DESCRIPTION:Dirty Blonde Band LIVE : 7pm – 10pm. \nAs always\, we’ll be serving beer\, wine\, and our own in-house-crafted spirits until 11! See you soon!.
URL:https://boguesounddistillery.com/event/dirty-blonde-band-live-3/
LOCATION:Bogue Sound Distillery\, 108 Bogue Commercial Dr\, Bogue\, NC\, 28570\, United States
CATEGORIES:Live Music
ATTACH;FMTTYPE=image/png:https://boguesounddistillery.com/wp-content/uploads/2026/01/01.17-3.png
END:VEVENT
END:VCALENDAR