BEGIN:VCALENDAR
VERSION:2.0
PRODID:-//Bogue Sound Distillery - ECPv6.15.20//NONSGML v1.0//EN
CALSCALE:GREGORIAN
METHOD:PUBLISH
X-ORIGINAL-URL:https://boguesounddistillery.com
X-WR-CALDESC:Events for Bogue Sound Distillery
REFRESH-INTERVAL;VALUE=DURATION:PT1H
X-Robots-Tag:noindex
X-PUBLISHED-TTL:PT1H
BEGIN:VTIMEZONE
TZID:America/New_York
BEGIN:DAYLIGHT
TZOFFSETFROM:-0500
TZOFFSETTO:-0400
TZNAME:EDT
DTSTART:20230312T070000
END:DAYLIGHT
BEGIN:STANDARD
TZOFFSETFROM:-0400
TZOFFSETTO:-0500
TZNAME:EST
DTSTART:20231105T060000
END:STANDARD
BEGIN:DAYLIGHT
TZOFFSETFROM:-0500
TZOFFSETTO:-0400
TZNAME:EDT
DTSTART:20240310T070000
END:DAYLIGHT
BEGIN:STANDARD
TZOFFSETFROM:-0400
TZOFFSETTO:-0500
TZNAME:EST
DTSTART:20241103T060000
END:STANDARD
BEGIN:DAYLIGHT
TZOFFSETFROM:-0500
TZOFFSETTO:-0400
TZNAME:EDT
DTSTART:20250309T070000
END:DAYLIGHT
BEGIN:STANDARD
TZOFFSETFROM:-0400
TZOFFSETTO:-0500
TZNAME:EST
DTSTART:20251102T060000
END:STANDARD
END:VTIMEZONE
BEGIN:VEVENT
DTSTART;TZID=America/New_York:20240629T180000
DTEND;TZID=America/New_York:20240629T230000
DTSTAMP:20260423T104120
CREATED:20240528T170449Z
LAST-MODIFIED:20240528T170449Z
UID:9719-1719684000-1719702000@boguesounddistillery.com
SUMMARY:Salty Bones LIVE plus the Burger Bus
DESCRIPTION:The Burger Bus: 6pm – 8pm. \nSalty Bones LIVE: 7pm – 10pm. \nAs always\, we’ll be serving beer\, wine\, and our own in-house-crafted spirits until 11! See you soon!
URL:https://boguesounddistillery.com/event/salty-bones-live-plus-the-burger-bus/
LOCATION:NC
CATEGORIES:Live Music
ATTACH;FMTTYPE=image/png:https://boguesounddistillery.com/wp-content/uploads/2024/05/25.png
END:VEVENT
BEGIN:VEVENT
DTSTART;TZID=America/New_York:20240630T150000
DTEND;TZID=America/New_York:20240630T180000
DTSTAMP:20260423T104120
CREATED:20240528T170742Z
LAST-MODIFIED:20240528T170742Z
UID:9722-1719759600-1719770400@boguesounddistillery.com
SUMMARY:Stephen Poole LIVE
DESCRIPTION:It’s Stephen Poole LIVE from 3 PM – 6 PM on another great Sunday Funday! \nWe’ll be serving up your favorite cocktails with our locally-crafted spirits and selling our bottled spirits from 1 PM – 8 PM. \nSee you soon!
URL:https://boguesounddistillery.com/event/stephen-poole-live-15/
LOCATION:NC
CATEGORIES:Live Music
ATTACH;FMTTYPE=image/png:https://boguesounddistillery.com/wp-content/uploads/2024/05/26.png
END:VEVENT
BEGIN:VEVENT
DTSTART;TZID=America/New_York:20240705T180000
DTEND;TZID=America/New_York:20240705T230000
DTSTAMP:20260423T104120
CREATED:20240620T190948Z
LAST-MODIFIED:20240620T190948Z
UID:9783-1720202400-1720220400@boguesounddistillery.com
SUMMARY:Dust Parade LIVE plus Smokin' Joe's BBQ
DESCRIPTION:Smokin’ Joe’s BBQ : 6pm – 8pm. \nDust Parade LIVE: 7pm – 10pm. \nAs always\, we’ll be serving beer\, wine\, and our own in-house-crafted spirits until 11! See you soon!
URL:https://boguesounddistillery.com/event/dust-parade-live-plus-smokin-joes-bbq/
LOCATION:NC
CATEGORIES:Live Music
ATTACH;FMTTYPE=image/png:https://boguesounddistillery.com/wp-content/uploads/2024/06/07.05.png
END:VEVENT
BEGIN:VEVENT
DTSTART;TZID=America/New_York:20240706T180000
DTEND;TZID=America/New_York:20240706T230000
DTSTAMP:20260423T104120
CREATED:20240620T190948Z
LAST-MODIFIED:20240620T190948Z
UID:9786-1720288800-1720306800@boguesounddistillery.com
SUMMARY:Steel County Express LIVE plus Nacho Shack
DESCRIPTION:Nacho Shack : 6pm – 8pm. \nSteel County Express LIVE: 7pm – 10pm. \nAs always\, we’ll be serving beer\, wine\, and our own in-house-crafted spirits until 11! See you soon!
URL:https://boguesounddistillery.com/event/steel-county-express-live-plus-nacho-shack/
LOCATION:NC
CATEGORIES:Live Music
ATTACH;FMTTYPE=image/png:https://boguesounddistillery.com/wp-content/uploads/2024/06/07.06.png
END:VEVENT
BEGIN:VEVENT
DTSTART;TZID=America/New_York:20240707T150000
DTEND;TZID=America/New_York:20240707T180000
DTSTAMP:20260423T104120
CREATED:20240620T190948Z
LAST-MODIFIED:20240620T190948Z
UID:9789-1720364400-1720375200@boguesounddistillery.com
SUMMARY:RV Roadshow LIVE
DESCRIPTION:It’s RV Roadshow LIVE from 3 PM – 6 PM on another great Sunday Funday! \nWe’ll be serving up your favorite cocktails with our locally-crafted spirits and selling our bottled spirits from 1 PM – 8 PM. \nSee you soon!
URL:https://boguesounddistillery.com/event/rv-roadshow-live-2/
LOCATION:NC
CATEGORIES:Live Music
ATTACH;FMTTYPE=image/png:https://boguesounddistillery.com/wp-content/uploads/2024/06/07.07.png
END:VEVENT
BEGIN:VEVENT
DTSTART;TZID=America/New_York:20240712T180000
DTEND;TZID=America/New_York:20240712T230000
DTSTAMP:20260423T104120
CREATED:20240620T190947Z
LAST-MODIFIED:20240620T190947Z
UID:9798-1720807200-1720825200@boguesounddistillery.com
SUMMARY:Southern Hellcats LIVE plus Pony Up Pizza Co.
DESCRIPTION:Pony Up Pizza Co. : 6pm – 8pm. \nSouthern Hellcats LIVE: 7pm – 10pm. \nAs always\, we’ll be serving beer\, wine\, and our own in-house-crafted spirits until 11! See you soon!
URL:https://boguesounddistillery.com/event/southern-hellcats-live-plus-pony-up-pizza-co-2/
LOCATION:NC
CATEGORIES:Live Music
ATTACH;FMTTYPE=image/png:https://boguesounddistillery.com/wp-content/uploads/2024/06/07.12.png
END:VEVENT
BEGIN:VEVENT
DTSTART;TZID=America/New_York:20240713T180000
DTEND;TZID=America/New_York:20240713T230000
DTSTAMP:20260423T104120
CREATED:20240620T190947Z
LAST-MODIFIED:20240620T190947Z
UID:9801-1720893600-1720911600@boguesounddistillery.com
SUMMARY:The Will & Tony Show LIVE plus Taste of Vietnam
DESCRIPTION:Taste of Vietnam : 6pm – 8pm. \nThe Will & Tony Show LIVE : 7pm – 10pm. \nAs always\, we’ll be serving beer\, wine\, and our own in-house-crafted spirits until 11! See you soon!
URL:https://boguesounddistillery.com/event/the-will-tony-show-live-plus-taste-of-vietnam/
LOCATION:NC
CATEGORIES:Live Music
ATTACH;FMTTYPE=image/png:https://boguesounddistillery.com/wp-content/uploads/2024/06/07.13.png
END:VEVENT
BEGIN:VEVENT
DTSTART;TZID=America/New_York:20240714T150000
DTEND;TZID=America/New_York:20240714T180000
DTSTAMP:20260423T104120
CREATED:20240620T190947Z
LAST-MODIFIED:20240620T190947Z
UID:9804-1720969200-1720980000@boguesounddistillery.com
SUMMARY:Patrick Bliss LIVE
DESCRIPTION:It’s Patrick Bliss LIVE from 3 PM – 6 PM on another great Sunday Funday! \nWe’ll be serving up your favorite cocktails with our locally-crafted spirits and selling our bottled spirits from 1 PM – 8 PM. \nSee you soon!
URL:https://boguesounddistillery.com/event/patrick-bliss-live/
LOCATION:NC
CATEGORIES:Live Music
ATTACH;FMTTYPE=image/png:https://boguesounddistillery.com/wp-content/uploads/2024/06/07.14.png
END:VEVENT
BEGIN:VEVENT
DTSTART;TZID=America/New_York:20240719T180000
DTEND;TZID=America/New_York:20240719T230000
DTSTAMP:20260423T104120
CREATED:20240620T193505Z
LAST-MODIFIED:20240702T155505Z
UID:9813-1721412000-1721430000@boguesounddistillery.com
SUMMARY:Davy Williamson LIVE plus Taste of Vietnam
DESCRIPTION:Taste of Vietnam : 6pm – 8pm. \nDavy Williamson LIVE : 7pm – 10pm. \nAs always\, we’ll be serving beer\, wine\, and our own in-house-crafted spirits until 11! See you soon!
URL:https://boguesounddistillery.com/event/the-will-tony-show-live-plus-taste-of-vietnam-2/
LOCATION:NC
CATEGORIES:Live Music
ATTACH;FMTTYPE=image/png:https://boguesounddistillery.com/wp-content/uploads/2024/06/07.19-1.png
END:VEVENT
BEGIN:VEVENT
DTSTART;TZID=America/New_York:20240720T180000
DTEND;TZID=America/New_York:20240720T230000
DTSTAMP:20260423T104120
CREATED:20240620T193505Z
LAST-MODIFIED:20240620T193505Z
UID:9816-1721498400-1721516400@boguesounddistillery.com
SUMMARY:Dirty Blonde Band Live plus Smokin' Joe's BBQ
DESCRIPTION:Smokin’ Joe’s BBQ: 6pm – 8pm\nDirty Blonde Band Live: 7pm – 10pm \nAs always\, we’ll be serving beer\, wine\, and our own in-house-crafted spirits until 11! See you soon!
URL:https://boguesounddistillery.com/event/dirty-blonde-band-live-plus-smokin-joes-bbq/
LOCATION:NC
CATEGORIES:Live Music
ATTACH;FMTTYPE=image/png:https://boguesounddistillery.com/wp-content/uploads/2024/06/07.20.png
END:VEVENT
BEGIN:VEVENT
DTSTART;TZID=America/New_York:20240721T150000
DTEND;TZID=America/New_York:20240721T180000
DTSTAMP:20260423T104120
CREATED:20240620T193505Z
LAST-MODIFIED:20240719T201428Z
UID:9819-1721574000-1721584800@boguesounddistillery.com
SUMMARY:Corey Stuart LIVE
DESCRIPTION:It’s Corey Stuart LIVE from 3 PM – 6 PM on another great Sunday Funday! \nWe’ll be serving up your favorite cocktails with our locally-crafted spirits and selling our bottled spirits from 1 PM – 8 PM. \nSee you soon!
URL:https://boguesounddistillery.com/event/salty-bones-live/
LOCATION:NC
CATEGORIES:Live Music
ATTACH;FMTTYPE=image/png:https://boguesounddistillery.com/wp-content/uploads/2024/06/07.21-1.png
END:VEVENT
BEGIN:VEVENT
DTSTART;TZID=America/New_York:20240726T180000
DTEND;TZID=America/New_York:20240726T230000
DTSTAMP:20260423T104120
CREATED:20240620T193505Z
LAST-MODIFIED:20240620T193505Z
UID:9828-1722016800-1722034800@boguesounddistillery.com
SUMMARY:Caffeinated Soul Boogie Live plus Pony Up Pizza Company
DESCRIPTION:Pony Up Pizza Company: 6pm – 8pm\nCaffeinated Soul Boogie Live: 7pm – 10pm \nAs always\, we’ll be serving beer\, wine\, and our own in-house-crafted spirits until 11! See you soon!
URL:https://boguesounddistillery.com/event/caffeinated-soul-boogie-live-plus-pony-up-pizza-company/
LOCATION:NC
CATEGORIES:Live Music
ATTACH;FMTTYPE=image/png:https://boguesounddistillery.com/wp-content/uploads/2024/06/07.26.png
END:VEVENT
BEGIN:VEVENT
DTSTART;TZID=America/New_York:20240727T180000
DTEND;TZID=America/New_York:20240727T230000
DTSTAMP:20260423T104120
CREATED:20240620T193505Z
LAST-MODIFIED:20240620T193505Z
UID:9832-1722103200-1722121200@boguesounddistillery.com
SUMMARY:Monika Jaymes LIVE plus Dirty Taco & Mas
DESCRIPTION:Dirty Taco & Mas: 6pm – 8pm\nMonika Jaymes Live: 7pm – 10pm \nAs always\, we’ll be serving beer\, wine\, and our own in-house-crafted spirits until 11! See you soon!
URL:https://boguesounddistillery.com/event/monika-jaymes-live-plus-dirty-taco-mas/
LOCATION:NC
CATEGORIES:Live Music
ATTACH;FMTTYPE=image/png:https://boguesounddistillery.com/wp-content/uploads/2024/06/07.27.png
END:VEVENT
BEGIN:VEVENT
DTSTART;TZID=America/New_York:20240728T150000
DTEND;TZID=America/New_York:20240728T180000
DTSTAMP:20260423T104120
CREATED:20240620T193505Z
LAST-MODIFIED:20240620T193505Z
UID:9834-1722178800-1722189600@boguesounddistillery.com
SUMMARY:Stephen Poole LIVE
DESCRIPTION:It’s Stephen Poole LIVE from 3 PM – 6 PM on another great Sunday Funday! \nWe’ll be serving up your favorite cocktails with our locally-crafted spirits and selling our bottled spirits from 1 PM – 8 PM. \nSee you soon!
URL:https://boguesounddistillery.com/event/stephen-poole-live-16/
LOCATION:NC
CATEGORIES:Live Music
ATTACH;FMTTYPE=image/png:https://boguesounddistillery.com/wp-content/uploads/2024/06/07.28.png
END:VEVENT
BEGIN:VEVENT
DTSTART;TZID=America/New_York:20240802T180000
DTEND;TZID=America/New_York:20240802T230000
DTSTAMP:20260423T104120
CREATED:20240725T012552Z
LAST-MODIFIED:20240725T012552Z
UID:9934-1722621600-1722639600@boguesounddistillery.com
SUMMARY:The Will & Tony Show LIVE plus Smokin' Joe's BBQ
DESCRIPTION:Smokin’ Joe’s BBQ: 6pm – 8pm. \nThe Will & Tony Show LIVE : 7pm – 10pm. \nAs always\, we’ll be serving beer\, wine\, and our own in-house-crafted spirits until 11! See you soon!
URL:https://boguesounddistillery.com/event/the-will-tony-show-live-plus-smokin-joes-bbq/
LOCATION:Bogue Sound Distillery\, 108 Bogue Commercial Dr\, Bogue\, NC\, 28570\, United States
CATEGORIES:Live Music
ATTACH;FMTTYPE=image/png:https://boguesounddistillery.com/wp-content/uploads/2024/07/08.01-2.png
END:VEVENT
BEGIN:VEVENT
DTSTART;TZID=America/New_York:20240803T180000
DTEND;TZID=America/New_York:20240803T230000
DTSTAMP:20260423T104120
CREATED:20240725T012552Z
LAST-MODIFIED:20240801T145413Z
UID:9941-1722708000-1722726000@boguesounddistillery.com
SUMMARY:Dust Parade LIVE plus Tre Rosas
DESCRIPTION:FOOD TRUCK- Tre Rosas: 6pm – 8pm. \nDust Parade LIVE: 7pm – 10pm. \nAs always\, we’ll be serving beer\, wine\, and our own in-house-crafted spirits until 11! See you soon!
URL:https://boguesounddistillery.com/event/dust-parade-live/
LOCATION:Bogue Sound Distillery\, 108 Bogue Commercial Dr\, Bogue\, NC\, 28570\, United States
CATEGORIES:Live Music
ATTACH;FMTTYPE=image/png:https://boguesounddistillery.com/wp-content/uploads/2024/07/08.03-1.png
END:VEVENT
BEGIN:VEVENT
DTSTART;TZID=America/New_York:20240804T150000
DTEND;TZID=America/New_York:20240804T180000
DTSTAMP:20260423T104120
CREATED:20240725T012552Z
LAST-MODIFIED:20240725T012552Z
UID:9944-1722783600-1722794400@boguesounddistillery.com
SUMMARY:Mykel Barbee LIVE
DESCRIPTION:It’s Mykel Barbee LIVE from 3 PM – 6 PM on another great Sunday Funday! \nWe’ll be serving up your favorite cocktails with our locally-crafted spirits and selling our bottled spirits from 1 PM – 8 PM. \nSee you soon!
URL:https://boguesounddistillery.com/event/mykel-barbee-live-3/
LOCATION:Bogue Sound Distillery\, 108 Bogue Commercial Dr\, Bogue\, NC\, 28570\, United States
CATEGORIES:Live Music
ATTACH;FMTTYPE=image/png:https://boguesounddistillery.com/wp-content/uploads/2024/07/07.14.png
END:VEVENT
BEGIN:VEVENT
DTSTART;TZID=America/New_York:20240809T180000
DTEND;TZID=America/New_York:20240809T230000
DTSTAMP:20260423T104120
CREATED:20240725T012551Z
LAST-MODIFIED:20240725T012551Z
UID:9954-1723226400-1723244400@boguesounddistillery.com
SUMMARY:Southern Hellcats LIVE plus Capone's A Taste of Philly
DESCRIPTION:Capone’s A Taste of Philly: 6pm – 8pm. \nSouthern Hellcats LIVE : 7pm – 10pm. \nAs always\, we’ll be serving beer\, wine\, and our own in-house-crafted spirits until 11! See you soon!
URL:https://boguesounddistillery.com/event/southern-hellcats-live-plus-capones-a-taste-of-philly/
LOCATION:Bogue Sound Distillery\, 108 Bogue Commercial Dr\, Bogue\, NC\, 28570\, United States
CATEGORIES:Live Music
ATTACH;FMTTYPE=image/png:https://boguesounddistillery.com/wp-content/uploads/2024/07/08.09.png
END:VEVENT
BEGIN:VEVENT
DTSTART;TZID=America/New_York:20240810T180000
DTEND;TZID=America/New_York:20240810T230000
DTSTAMP:20260423T104120
CREATED:20240725T012551Z
LAST-MODIFIED:20240725T012551Z
UID:9957-1723312800-1723330800@boguesounddistillery.com
SUMMARY:SmallTown plus Tanja's Hella Fat Food
DESCRIPTION:Tanja’s Hella Fat Food: 6pm – 8pm. \nSmallTown LIVE : 7pm – 10pm. \nAs always\, we’ll be serving beer\, wine\, and our own in-house-crafted spirits until 11! See you soon!
URL:https://boguesounddistillery.com/event/smalltown-plus-tanjas-hella-fat-food/
LOCATION:Bogue Sound Distillery\, 108 Bogue Commercial Dr\, Bogue\, NC\, 28570\, United States
CATEGORIES:Live Music
ATTACH;FMTTYPE=image/png:https://boguesounddistillery.com/wp-content/uploads/2024/07/08.10.png
END:VEVENT
BEGIN:VEVENT
DTSTART;TZID=America/New_York:20240811T150000
DTEND;TZID=America/New_York:20240811T180000
DTSTAMP:20260423T104120
CREATED:20240725T012551Z
LAST-MODIFIED:20240811T184421Z
UID:9960-1723388400-1723399200@boguesounddistillery.com
SUMMARY:Capt. Dick Knight Live 3pm - 6pm
DESCRIPTION:It’s Capt. Dick Knight LIVE from 3 PM – 6 PM on another great Sunday Funday! \nWe’ll be serving up your favorite cocktails with our locally-crafted spirits and selling our bottled spirits from 1 PM – 8 PM. \nSee you soon!
URL:https://boguesounddistillery.com/event/corey-stuart-live-3/
LOCATION:Bogue Sound Distillery\, 108 Bogue Commercial Dr\, Bogue\, NC\, 28570\, United States
CATEGORIES:Live Music
ATTACH;FMTTYPE=image/png:https://boguesounddistillery.com/wp-content/uploads/2024/07/08.11.png
END:VEVENT
BEGIN:VEVENT
DTSTART;TZID=America/New_York:20240816T180000
DTEND;TZID=America/New_York:20240816T230000
DTSTAMP:20260423T104120
CREATED:20240725T012551Z
LAST-MODIFIED:20240725T012551Z
UID:9969-1723831200-1723849200@boguesounddistillery.com
SUMMARY:Frank Grant & the Feelin' LIVE plus Pony Up Pizza Company
DESCRIPTION:Pony Up Pizza Company : 6pm – 8pm. \nFrank Grant & the Feelin’ LIVE : 7pm – 10pm. \nAs always\, we’ll be serving beer\, wine\, and our own in-house-crafted spirits until 11! See you soon!
URL:https://boguesounddistillery.com/event/frank-grant-the-feelin-live-plus-pony-up-pizza-company/
LOCATION:Bogue Sound Distillery\, 108 Bogue Commercial Dr\, Bogue\, NC\, 28570\, United States
CATEGORIES:Live Music
ATTACH;FMTTYPE=image/png:https://boguesounddistillery.com/wp-content/uploads/2024/07/07.19.png
END:VEVENT
BEGIN:VEVENT
DTSTART;TZID=America/New_York:20240817T180000
DTEND;TZID=America/New_York:20240817T230000
DTSTAMP:20260423T104120
CREATED:20240725T012551Z
LAST-MODIFIED:20240725T012551Z
UID:9972-1723917600-1723935600@boguesounddistillery.com
SUMMARY:Salty Bones LIVE plus Big E's Dogs & Tacos
DESCRIPTION:Big E’s Dogs & Tacos: 6pm – 8pm. \nSalty Bones LIVE : 7pm – 10pm. \nAs always\, we’ll be serving beer\, wine\, and our own in-house-crafted spirits until 11! See you soon!
URL:https://boguesounddistillery.com/event/salty-bones-live-plus-big-es-dogs-tacos/
LOCATION:Bogue Sound Distillery\, 108 Bogue Commercial Dr\, Bogue\, NC\, 28570\, United States
CATEGORIES:Live Music
ATTACH;FMTTYPE=image/png:https://boguesounddistillery.com/wp-content/uploads/2024/07/07.20.png
END:VEVENT
BEGIN:VEVENT
DTSTART;TZID=America/New_York:20240818T150000
DTEND;TZID=America/New_York:20240818T180000
DTSTAMP:20260423T104120
CREATED:20240725T012551Z
LAST-MODIFIED:20240725T012551Z
UID:9976-1723993200-1724004000@boguesounddistillery.com
SUMMARY:RV Roadshow LIVE
DESCRIPTION:It’s RV Roadshow LIVE from 3 PM – 6 PM on another great Sunday Funday! \nWe’ll be serving up your favorite cocktails with our locally-crafted spirits and selling our bottled spirits from 1 PM – 8 PM. \nSee you soon!
URL:https://boguesounddistillery.com/event/rv-roadshow-live-3/
LOCATION:Bogue Sound Distillery\, 108 Bogue Commercial Dr\, Bogue\, NC\, 28570\, United States
CATEGORIES:Live Music
ATTACH;FMTTYPE=image/png:https://boguesounddistillery.com/wp-content/uploads/2024/07/08.18.png
END:VEVENT
BEGIN:VEVENT
DTSTART;TZID=America/New_York:20240823T180000
DTEND;TZID=America/New_York:20240823T230000
DTSTAMP:20260423T104120
CREATED:20240812T150733Z
LAST-MODIFIED:20240812T150733Z
UID:9994-1724436000-1724454000@boguesounddistillery.com
SUMMARY:Davy Williamson LIVE plus Dirty Taco & Mas
DESCRIPTION:Dirty Taco & Mas: 6pm – 8pm. \nDavy Williamson LIVE : 7pm – 10pm. \nAs always\, we’ll be serving beer\, wine\, and our own in-house-crafted spirits until 11! See you soon!
URL:https://boguesounddistillery.com/event/davy-williamson-live-plus-dirty-taco-mas/
LOCATION:Bogue Sound Distillery\, 108 Bogue Commercial Dr\, Bogue\, NC\, 28570\, United States
CATEGORIES:Live Music
ATTACH;FMTTYPE=image/png:https://boguesounddistillery.com/wp-content/uploads/2024/07/08.23.png
END:VEVENT
BEGIN:VEVENT
DTSTART;TZID=America/New_York:20240824T180000
DTEND;TZID=America/New_York:20240824T230000
DTSTAMP:20260423T104120
CREATED:20240812T150733Z
LAST-MODIFIED:20240812T150733Z
UID:9997-1724522400-1724540400@boguesounddistillery.com
SUMMARY:Dirty Blonde Band LIVE plus Smokin' Joe's BBQ
DESCRIPTION:Smokin’ Joe’s BBQ: 6pm – 8pm. \nDirty Blonde Band LIVE : 7pm – 10pm. \nAs always\, we’ll be serving beer\, wine\, and our own in-house-crafted spirits until 11! See you soon!
URL:https://boguesounddistillery.com/event/dirty-blonde-band-live-plus-smokin-joes-bbq-2/
LOCATION:Bogue Sound Distillery\, 108 Bogue Commercial Dr\, Bogue\, NC\, 28570\, United States
CATEGORIES:Live Music
ATTACH;FMTTYPE=image/png:https://boguesounddistillery.com/wp-content/uploads/2024/07/08.24.png
END:VEVENT
BEGIN:VEVENT
DTSTART;TZID=America/New_York:20240825T150000
DTEND;TZID=America/New_York:20240825T180000
DTSTAMP:20260423T104120
CREATED:20240812T150733Z
LAST-MODIFIED:20240812T150733Z
UID:10000-1724598000-1724608800@boguesounddistillery.com
SUMMARY:Stephen Poole LIVE plus Big E's Dogs & Tacos
DESCRIPTION:It’s Stephen Poole LIVE from 3 PM – 6 PM on another great Sunday Funday! \nWe’ll be serving up your favorite cocktails with our locally-crafted spirits and selling our bottled spirits from 1 PM – 8 PM. \nFood Truck: Big E’s Dogs & Tacos \nSee you soon!
URL:https://boguesounddistillery.com/event/stephen-poole-live-plus-big-es-dogs-tacos/
LOCATION:Bogue Sound Distillery\, 108 Bogue Commercial Dr\, Bogue\, NC\, 28570\, United States
CATEGORIES:Live Music
ATTACH;FMTTYPE=image/png:https://boguesounddistillery.com/wp-content/uploads/2024/07/07.28.png
END:VEVENT
BEGIN:VEVENT
DTSTART;TZID=America/New_York:20240830T180000
DTEND;TZID=America/New_York:20240830T230000
DTSTAMP:20260423T104120
CREATED:20240812T150732Z
LAST-MODIFIED:20240812T150732Z
UID:10009-1725040800-1725058800@boguesounddistillery.com
SUMMARY:Bob Laverty LIVE plus Burger Bus
DESCRIPTION:Burger Bus: 6pm – 8pm. \nBob Laverty LIVE : 7pm – 10pm. \nAs always\, we’ll be serving beer\, wine\, and our own in-house-crafted spirits until 11! See you soon!
URL:https://boguesounddistillery.com/event/bob-laverty-live-plus-burger-bus/
LOCATION:Bogue Sound Distillery\, 108 Bogue Commercial Dr\, Bogue\, NC\, 28570\, United States
CATEGORIES:Live Music
ATTACH;FMTTYPE=image/png:https://boguesounddistillery.com/wp-content/uploads/2024/07/08.30.png
END:VEVENT
BEGIN:VEVENT
DTSTART;TZID=America/New_York:20240831T180000
DTEND;TZID=America/New_York:20240831T230000
DTSTAMP:20260423T104120
CREATED:20240812T150732Z
LAST-MODIFIED:20240812T165342Z
UID:10012-1725127200-1725145200@boguesounddistillery.com
SUMMARY:Gas Money Band (formerly Those Damn Yankees) LIVE plus Off the Hook
DESCRIPTION:Off the Hook Food Truck: 6pm – 8pm. \nGas Money Band (formerly Those Damn Yankees) LIVE : 7pm – 10pm. \nAs always\, we’ll be serving beer\, wine\, and our own in-house-crafted spirits until 11! See you soon!
URL:https://boguesounddistillery.com/event/those-damn-yankees-live-plus-off-the-hook/
LOCATION:Bogue Sound Distillery\, 108 Bogue Commercial Dr\, Bogue\, NC\, 28570\, United States
CATEGORIES:Live Music
ATTACH;FMTTYPE=image/png:https://boguesounddistillery.com/wp-content/uploads/2024/08/08.31.png
END:VEVENT
BEGIN:VEVENT
DTSTART;TZID=America/New_York:20240901T150000
DTEND;TZID=America/New_York:20240901T180000
DTSTAMP:20260423T104120
CREATED:20240821T022435Z
LAST-MODIFIED:20240821T022435Z
UID:10029-1725202800-1725213600@boguesounddistillery.com
SUMMARY:Corey Stuart LIVE
DESCRIPTION:It’s Corey Stuart LIVE from 3 PM – 6 PM on another great Sunday Funday! \nWe’ll be serving up your favorite cocktails with our locally-crafted spirits and selling our bottled spirits from 1 PM – 8 PM. \nSee you soon!
URL:https://boguesounddistillery.com/event/corey-stuart-live-4/
LOCATION:Bogue Sound Distillery\, 108 Bogue Commercial Dr\, Bogue\, NC\, 28570\, United States
CATEGORIES:Live Music
ATTACH;FMTTYPE=image/png:https://boguesounddistillery.com/wp-content/uploads/2024/08/09.01.png
END:VEVENT
BEGIN:VEVENT
DTSTART;TZID=America/New_York:20240906T180000
DTEND;TZID=America/New_York:20240906T230000
DTSTAMP:20260423T104120
CREATED:20240821T022435Z
LAST-MODIFIED:20240821T022435Z
UID:10038-1725645600-1725663600@boguesounddistillery.com
SUMMARY:Will & Tony Show LIVE plus Pony Up Pizza Co.
DESCRIPTION:Pony Up Pizza Co: 6pm – 8pm. \nWill & Tony Show LIVE : 7pm – 10pm. \nAs always\, we’ll be serving beer\, wine\, and our own in-house-crafted spirits until 11! See you soon!
URL:https://boguesounddistillery.com/event/will-tony-show-live-plus-pony-up-pizza-co/
LOCATION:Bogue Sound Distillery\, 108 Bogue Commercial Dr\, Bogue\, NC\, 28570\, United States
CATEGORIES:Live Music
ATTACH;FMTTYPE=image/png:https://boguesounddistillery.com/wp-content/uploads/2024/08/09.06.png
END:VEVENT
END:VCALENDAR