BEGIN:VCALENDAR
VERSION:2.0
PRODID:-//Bogue Sound Distillery - ECPv6.15.20//NONSGML v1.0//EN
CALSCALE:GREGORIAN
METHOD:PUBLISH
X-WR-CALNAME:Bogue Sound Distillery
X-ORIGINAL-URL:https://boguesounddistillery.com
X-WR-CALDESC:Events for Bogue Sound Distillery
REFRESH-INTERVAL;VALUE=DURATION:PT1H
X-Robots-Tag:noindex
X-PUBLISHED-TTL:PT1H
BEGIN:VTIMEZONE
TZID:America/New_York
BEGIN:DAYLIGHT
TZOFFSETFROM:-0500
TZOFFSETTO:-0400
TZNAME:EDT
DTSTART:20230312T070000
END:DAYLIGHT
BEGIN:STANDARD
TZOFFSETFROM:-0400
TZOFFSETTO:-0500
TZNAME:EST
DTSTART:20231105T060000
END:STANDARD
BEGIN:DAYLIGHT
TZOFFSETFROM:-0500
TZOFFSETTO:-0400
TZNAME:EDT
DTSTART:20240310T070000
END:DAYLIGHT
BEGIN:STANDARD
TZOFFSETFROM:-0400
TZOFFSETTO:-0500
TZNAME:EST
DTSTART:20241103T060000
END:STANDARD
BEGIN:DAYLIGHT
TZOFFSETFROM:-0500
TZOFFSETTO:-0400
TZNAME:EDT
DTSTART:20250309T070000
END:DAYLIGHT
BEGIN:STANDARD
TZOFFSETFROM:-0400
TZOFFSETTO:-0500
TZNAME:EST
DTSTART:20251102T060000
END:STANDARD
BEGIN:DAYLIGHT
TZOFFSETFROM:-0500
TZOFFSETTO:-0400
TZNAME:EDT
DTSTART:20260308T070000
END:DAYLIGHT
BEGIN:STANDARD
TZOFFSETFROM:-0400
TZOFFSETTO:-0500
TZNAME:EST
DTSTART:20261101T060000
END:STANDARD
END:VTIMEZONE
BEGIN:VEVENT
DTSTART;TZID=America/New_York:20241221T180000
DTEND;TZID=America/New_York:20241221T230000
DTSTAMP:20260423T161001
CREATED:20241126T214928Z
LAST-MODIFIED:20241221T204043Z
UID:10348-1734804000-1734822000@boguesounddistillery.com
SUMMARY:Caffeinated Soul Boogie Live
DESCRIPTION:NO FOOD TRUCK.  BYO Snacks or order delivery tonight. \nCaffeinated Soul Boogie LIVE : 7pm – 10pm. \nAs always\, we’ll be serving beer\, wine\, and our own in-house-crafted spirits until 11! See you soon!.
URL:https://boguesounddistillery.com/event/caffeinated-soul-boogie-live/
LOCATION:Bogue Sound Distillery\, 108 Bogue Commercial Dr\, Bogue\, NC\, 28570\, United States
CATEGORIES:Live Music
ATTACH;FMTTYPE=image/png:https://boguesounddistillery.com/wp-content/uploads/2024/11/12.21-2.png
END:VEVENT
BEGIN:VEVENT
DTSTART;TZID=America/New_York:20241222T140000
DTEND;TZID=America/New_York:20241222T170000
DTSTAMP:20260423T161001
CREATED:20241126T214928Z
LAST-MODIFIED:20241202T194706Z
UID:10350-1734876000-1734886800@boguesounddistillery.com
SUMMARY:Stover & Grey LIVE
DESCRIPTION:It’s Stover & Grey LIVE from 2 PM – 5 PM on another great Sunday Funday! \nWe’ll be serving up your favorite cocktails with our locally-crafted spirits and selling our bottled spirits from 1 PM – 6 PM. \nSee you soon!
URL:https://boguesounddistillery.com/event/cecil-gillikin-live-2/
LOCATION:Bogue Sound Distillery\, 108 Bogue Commercial Dr\, Bogue\, NC\, 28570\, United States
CATEGORIES:Live Music
ATTACH;FMTTYPE=image/png:https://boguesounddistillery.com/wp-content/uploads/2024/11/12.22-1.png
END:VEVENT
BEGIN:VEVENT
DTSTART;TZID=America/New_York:20241227T180000
DTEND;TZID=America/New_York:20241227T230000
DTSTAMP:20260423T161001
CREATED:20241126T214927Z
LAST-MODIFIED:20241126T214927Z
UID:10356-1735322400-1735340400@boguesounddistillery.com
SUMMARY:Corey Stuart Live plus Tres Rosas
DESCRIPTION:Tres Rosas: 6pm – 8pm. \nCorey Stuart LIVE : 7pm – 10pm. \nAs always\, we’ll be serving beer\, wine\, and our own in-house-crafted spirits until 11! See you soon!.
URL:https://boguesounddistillery.com/event/corey-stuart-live-plus-tres-rosas/
LOCATION:Bogue Sound Distillery\, 108 Bogue Commercial Dr\, Bogue\, NC\, 28570\, United States
CATEGORIES:Live Music
ATTACH;FMTTYPE=image/png:https://boguesounddistillery.com/wp-content/uploads/2024/11/12.27.png
END:VEVENT
BEGIN:VEVENT
DTSTART;TZID=America/New_York:20241228T180000
DTEND;TZID=America/New_York:20241228T230000
DTSTAMP:20260423T161001
CREATED:20241126T214927Z
LAST-MODIFIED:20241126T214927Z
UID:10362-1735408800-1735426800@boguesounddistillery.com
SUMMARY:Frank Grant & the Feelin Live plus What's Jay Cook'n
DESCRIPTION:What’s Jay Cook’n: 6pm – 8pm. \nFrank Grant & the Feelin LIVE : 7pm – 10pm. \nAs always\, we’ll be serving beer\, wine\, and our own in-house-crafted spirits until 11! See you soon!.
URL:https://boguesounddistillery.com/event/frank-grant-the-feelin-live-plus-whats-jay-cookn/
LOCATION:Bogue Sound Distillery\, 108 Bogue Commercial Dr\, Bogue\, NC\, 28570\, United States
CATEGORIES:Live Music
ATTACH;FMTTYPE=image/png:https://boguesounddistillery.com/wp-content/uploads/2024/11/12.28.png
END:VEVENT
BEGIN:VEVENT
DTSTART;TZID=America/New_York:20241229T140000
DTEND;TZID=America/New_York:20241229T170000
DTSTAMP:20260423T161001
CREATED:20241126T214927Z
LAST-MODIFIED:20241126T214927Z
UID:10364-1735480800-1735491600@boguesounddistillery.com
SUMMARY:Stephen Poole LIVE
DESCRIPTION:It’s Stephen Poole LIVE from 2 PM – 5 PM on another great Sunday Funday! \nWe’ll be serving up your favorite cocktails with our locally-crafted spirits and selling our bottled spirits from 1 PM – 6 PM. \nSee you soon!
URL:https://boguesounddistillery.com/event/stephen-poole-live-18/
LOCATION:Bogue Sound Distillery\, 108 Bogue Commercial Dr\, Bogue\, NC\, 28570\, United States
CATEGORIES:Live Music
ATTACH;FMTTYPE=image/png:https://boguesounddistillery.com/wp-content/uploads/2024/11/12.28-2.png
END:VEVENT
BEGIN:VEVENT
DTSTART;TZID=America/New_York:20241231T180000
DTEND;TZID=America/New_York:20250101T010000
DTSTAMP:20260423T161001
CREATED:20241126T214927Z
LAST-MODIFIED:20241126T221926Z
UID:10367-1735668000-1735693200@boguesounddistillery.com
SUMMARY:New Year's Eve Bash with Dirty Blonde Band plus Pony Up Pizza Company
DESCRIPTION:Ring in the New Year at Bogue Sound Distillery’s New Year’s Eve Bash!\nPony Up Pizza Company: 6pm – 8pm\nDirty Blonde Band Live: 7pm – 10pm\nAnd be sure to toast the new year with your favorite craft cocktail from the bar!
URL:https://boguesounddistillery.com/event/new-years-eve-bash-with-dirty-blonde-band-plus-pony-up-pizza-company/
LOCATION:Bogue Sound Distillery\, 108 Bogue Commercial Dr\, Bogue\, NC\, 28570\, United States
CATEGORIES:Live Music
ATTACH;FMTTYPE=image/png:https://boguesounddistillery.com/wp-content/uploads/2024/11/12.31.png
END:VEVENT
BEGIN:VEVENT
DTSTART;TZID=America/New_York:20250103T180000
DTEND;TZID=America/New_York:20250103T230000
DTSTAMP:20260423T161001
CREATED:20241221T204303Z
LAST-MODIFIED:20241221T204303Z
UID:10388-1735927200-1735945200@boguesounddistillery.com
SUMMARY:Corey Stuart Live plus Coastal Cay Fish Tacos
DESCRIPTION:Coastal Cay Fish Tacos: 6pm – 8pm. \nCorey Stuart LIVE : 7pm – 10pm. \nAs always\, we’ll be serving beer\, wine\, and our own in-house-crafted spirits until 11! See you soon!.
URL:https://boguesounddistillery.com/event/corey-stuart-live-plus-coastal-cay-fish-tacos/
LOCATION:Bogue Sound Distillery\, 108 Bogue Commercial Dr\, Bogue\, NC\, 28570\, United States
CATEGORIES:Live Music
ATTACH;FMTTYPE=image/png:https://boguesounddistillery.com/wp-content/uploads/2024/12/01.03.png
END:VEVENT
BEGIN:VEVENT
DTSTART;TZID=America/New_York:20250104T180000
DTEND;TZID=America/New_York:20250104T230000
DTSTAMP:20260423T161001
CREATED:20241221T204303Z
LAST-MODIFIED:20250103T193909Z
UID:10391-1736013600-1736031600@boguesounddistillery.com
SUMMARY:Will & Tony Show Live plus Meraki Kafe
DESCRIPTION:Meraki Kafe: 6pm – 8pm. \nWill & Tony Show LIVE : 7pm – 10pm. \nAs always\, we’ll be serving beer\, wine\, and our own in-house-crafted spirits until 11! See you soon!.
URL:https://boguesounddistillery.com/event/will-tony-show-live-plus-taste-of-vietnam/
LOCATION:Bogue Sound Distillery\, 108 Bogue Commercial Dr\, Bogue\, NC\, 28570\, United States
CATEGORIES:Live Music
ATTACH;FMTTYPE=image/png:https://boguesounddistillery.com/wp-content/uploads/2024/12/01.04-2.png
END:VEVENT
BEGIN:VEVENT
DTSTART;TZID=America/New_York:20250105T140000
DTEND;TZID=America/New_York:20250105T170000
DTSTAMP:20260423T161001
CREATED:20241221T204303Z
LAST-MODIFIED:20241221T204303Z
UID:10394-1736085600-1736096400@boguesounddistillery.com
SUMMARY:Dino Pelletier
DESCRIPTION:It’s Dino Pelletier LIVE from 2 PM – 5 PM on another great Sunday Funday! \nWe’ll be serving up your favorite cocktails with our locally-crafted spirits and selling our bottled spirits from 1 PM – 6 PM. \nSee you soon!
URL:https://boguesounddistillery.com/event/dino-pelletier/
LOCATION:Bogue Sound Distillery\, 108 Bogue Commercial Dr\, Bogue\, NC\, 28570\, United States
CATEGORIES:Live Music
ATTACH;FMTTYPE=image/png:https://boguesounddistillery.com/wp-content/uploads/2024/12/01.05.png
END:VEVENT
BEGIN:VEVENT
DTSTART;TZID=America/New_York:20250110T180000
DTEND;TZID=America/New_York:20250110T230000
DTSTAMP:20260423T161001
CREATED:20241221T204303Z
LAST-MODIFIED:20250108T222707Z
UID:10403-1736532000-1736550000@boguesounddistillery.com
SUMMARY:Salty Bones Live plus Tres Rosas
DESCRIPTION:Tres Rosas.: 6pm – 8pm. \nSalty Bones LIVE : 7pm – 10pm. \nAs always\, we’ll be serving beer\, wine\, and our own in-house-crafted spirits until 11! See you soon!.
URL:https://boguesounddistillery.com/event/salty-bones-live-plus-pony-up-pizza-co/
LOCATION:Bogue Sound Distillery\, 108 Bogue Commercial Dr\, Bogue\, NC\, 28570\, United States
CATEGORIES:Live Music
ATTACH;FMTTYPE=image/png:https://boguesounddistillery.com/wp-content/uploads/2024/12/01.10-1.png
END:VEVENT
BEGIN:VEVENT
DTSTART;TZID=America/New_York:20250111T180000
DTEND;TZID=America/New_York:20250111T230000
DTSTAMP:20260423T161001
CREATED:20241221T204303Z
LAST-MODIFIED:20241221T204649Z
UID:10406-1736618400-1736636400@boguesounddistillery.com
SUMMARY:Gas Money Live plus What's Jay Cook'n
DESCRIPTION:What’s Jay Cook’n: 6pm – 8pm. \nGas Money (Formerly Those Damn Yankees) LIVE : 7pm – 10pm. \nAs always\, we’ll be serving beer\, wine\, and our own in-house-crafted spirits until 11! See you soon!
URL:https://boguesounddistillery.com/event/gas-money-live-plus-whats-jay-cookn-2/
LOCATION:Bogue Sound Distillery\, 108 Bogue Commercial Dr\, Bogue\, NC\, 28570\, United States
CATEGORIES:Live Music
ATTACH;FMTTYPE=image/png:https://boguesounddistillery.com/wp-content/uploads/2024/12/01.11.png
END:VEVENT
BEGIN:VEVENT
DTSTART;TZID=America/New_York:20250112T140000
DTEND;TZID=America/New_York:20250112T170000
DTSTAMP:20260423T161001
CREATED:20241221T204303Z
LAST-MODIFIED:20241221T204303Z
UID:10412-1736690400-1736701200@boguesounddistillery.com
SUMMARY:John G. Franklin
DESCRIPTION:It’s John G. Franklin LIVE from 2 PM – 5 PM on another great Sunday Funday! \nWe’ll be serving up your favorite cocktails with our locally-crafted spirits and selling our bottled spirits from 1 PM – 6 PM. \nSee you soon!
URL:https://boguesounddistillery.com/event/john-g-franklin/
LOCATION:Bogue Sound Distillery\, 108 Bogue Commercial Dr\, Bogue\, NC\, 28570\, United States
CATEGORIES:Live Music
ATTACH;FMTTYPE=image/png:https://boguesounddistillery.com/wp-content/uploads/2024/12/01.12.png
END:VEVENT
BEGIN:VEVENT
DTSTART;TZID=America/New_York:20250117T180000
DTEND;TZID=America/New_York:20250117T230000
DTSTAMP:20260423T161001
CREATED:20241221T204303Z
LAST-MODIFIED:20241221T205120Z
UID:10422-1737136800-1737154800@boguesounddistillery.com
SUMMARY:4EverAll Live plus No Rules Food Truck
DESCRIPTION:No Rules Food Truck: 6pm – 8pm. \n4EverAll LIVE : 7pm – 10pm. \nAs always\, we’ll be serving beer\, wine\, and our own in-house-crafted spirits until 11! See you soon!
URL:https://boguesounddistillery.com/event/4everall-live-plus-no-rules/
LOCATION:Bogue Sound Distillery\, 108 Bogue Commercial Dr\, Bogue\, NC\, 28570\, United States
CATEGORIES:Live Music
ATTACH;FMTTYPE=image/png:https://boguesounddistillery.com/wp-content/uploads/2024/12/01.17.png
END:VEVENT
BEGIN:VEVENT
DTSTART;TZID=America/New_York:20250118T180000
DTEND;TZID=America/New_York:20250118T230000
DTSTAMP:20260423T161001
CREATED:20241221T204303Z
LAST-MODIFIED:20250118T024617Z
UID:10425-1737223200-1737241200@boguesounddistillery.com
SUMMARY:Southern Hellcats Live plus Tres Rosas
DESCRIPTION:Tres Rosas: 6pm – 8pm. \nSouthern Hellcats LIVE : 7pm – 10pm. \nAs always\, we’ll be serving beer\, wine\, and our own in-house-crafted spirits until 11! See you soon!
URL:https://boguesounddistillery.com/event/southern-hellcats-live-plus-smokin-joes-bbq/
LOCATION:Bogue Sound Distillery\, 108 Bogue Commercial Dr\, Bogue\, NC\, 28570\, United States
CATEGORIES:Live Music
ATTACH;FMTTYPE=image/png:https://boguesounddistillery.com/wp-content/uploads/2024/12/01.18-1.png
END:VEVENT
BEGIN:VEVENT
DTSTART;TZID=America/New_York:20250119T140000
DTEND;TZID=America/New_York:20250119T170000
DTSTAMP:20260423T161001
CREATED:20241221T204303Z
LAST-MODIFIED:20241221T204303Z
UID:10409-1737295200-1737306000@boguesounddistillery.com
SUMMARY:Cecil Gillikin Live
DESCRIPTION:It’s Cecil Gillikin LIVE from 2 PM – 5 PM on another great Sunday Funday! \nWe’ll be serving up your favorite cocktails with our locally-crafted spirits and selling our bottled spirits from 1 PM – 6 PM. \nSee you soon!
URL:https://boguesounddistillery.com/event/cecil-gillikin-live-3/
LOCATION:Bogue Sound Distillery\, 108 Bogue Commercial Dr\, Bogue\, NC\, 28570\, United States
CATEGORIES:Live Music
ATTACH;FMTTYPE=image/png:https://boguesounddistillery.com/wp-content/uploads/2024/12/01.19.png
END:VEVENT
BEGIN:VEVENT
DTSTART;TZID=America/New_York:20250124T180000
DTEND;TZID=America/New_York:20250124T230000
DTSTAMP:20260423T161001
CREATED:20241221T204303Z
LAST-MODIFIED:20250124T151552Z
UID:10439-1737741600-1737759600@boguesounddistillery.com
SUMMARY:NRP Rhyme Live plus Spaghetti Night!
DESCRIPTION:Spaghetti Night!: 6:30pm \nNRP Rhyme LIVE : 7pm – 10pm. \nAs always\, we’ll be serving beer\, wine\, and our own in-house-crafted spirits until 11! See you soon!.
URL:https://boguesounddistillery.com/event/nrp-rhyme-live-plus-pony-up-pizza-co/
LOCATION:Bogue Sound Distillery\, 108 Bogue Commercial Dr\, Bogue\, NC\, 28570\, United States
CATEGORIES:Live Music
ATTACH;FMTTYPE=image/png:https://boguesounddistillery.com/wp-content/uploads/2024/12/01.17-2-1.png
END:VEVENT
BEGIN:VEVENT
DTSTART;TZID=America/New_York:20250125T180000
DTEND;TZID=America/New_York:20250125T230000
DTSTAMP:20260423T161001
CREATED:20241221T204302Z
LAST-MODIFIED:20241221T204302Z
UID:10443-1737828000-1737846000@boguesounddistillery.com
SUMMARY:Monika Jaymes Live plus Tres Rosas
DESCRIPTION:Tres Rosas: 6 – 8pm \nMonika Jaymes LIVE : 7pm – 10pm. \nAs always\, we’ll be serving beer\, wine\, and our own in-house-crafted spirits until 11! See you soon!.
URL:https://boguesounddistillery.com/event/monika-jaymes-live-plus-tres-rosas-2/
LOCATION:Bogue Sound Distillery\, 108 Bogue Commercial Dr\, Bogue\, NC\, 28570\, United States
CATEGORIES:Live Music
ATTACH;FMTTYPE=image/png:https://boguesounddistillery.com/wp-content/uploads/2024/12/01.18-2.png
END:VEVENT
BEGIN:VEVENT
DTSTART;TZID=America/New_York:20250126T140000
DTEND;TZID=America/New_York:20250126T170000
DTSTAMP:20260423T161001
CREATED:20241221T204302Z
LAST-MODIFIED:20241221T204302Z
UID:10446-1737900000-1737910800@boguesounddistillery.com
SUMMARY:Stephen Poole Live
DESCRIPTION:It’s Stephen Poole LIVE from 2 PM – 5 PM on another great Sunday Funday! \nWe’ll be serving up your favorite cocktails with our locally-crafted spirits and selling our bottled spirits from 1 PM – 6 PM. \nSee you soon!
URL:https://boguesounddistillery.com/event/stephen-poole-live/
LOCATION:Bogue Sound Distillery\, 108 Bogue Commercial Dr\, Bogue\, NC\, 28570\, United States
CATEGORIES:Live Music
ATTACH;FMTTYPE=image/png:https://boguesounddistillery.com/wp-content/uploads/2024/12/01.19-2.png
END:VEVENT
BEGIN:VEVENT
DTSTART;TZID=America/New_York:20250131T180000
DTEND;TZID=America/New_York:20250131T230000
DTSTAMP:20260423T161001
CREATED:20241221T204302Z
LAST-MODIFIED:20241221T204302Z
UID:10456-1738346400-1738364400@boguesounddistillery.com
SUMMARY:SmallTown Band Live plus Big E's Dogs & Tacos
DESCRIPTION:Big E’s Dogs & Tacos: 6 – 8pm \nSmallTown Band Live : 7pm – 10pm. \nAs always\, we’ll be serving beer\, wine\, and our own in-house-crafted spirits until 11! See you soon!.
URL:https://boguesounddistillery.com/event/smalltown-band-live-plus-big-es-dogs-tacos/
LOCATION:Bogue Sound Distillery\, 108 Bogue Commercial Dr\, Bogue\, NC\, 28570\, United States
CATEGORIES:Live Music
ATTACH;FMTTYPE=image/png:https://boguesounddistillery.com/wp-content/uploads/2024/12/01.17-3.png
END:VEVENT
BEGIN:VEVENT
DTSTART;TZID=America/New_York:20250201T180000
DTEND;TZID=America/New_York:20250201T230000
DTSTAMP:20260423T161001
CREATED:20250125T204721Z
LAST-MODIFIED:20250125T204721Z
UID:10487-1738432800-1738450800@boguesounddistillery.com
SUMMARY:Will & Tony Show Live plus No Rules
DESCRIPTION:No Rules: 6pm – 8pm. \nWill & Tony Show LIVE : 7pm – 10pm. \nAs always\, we’ll be serving beer\, wine\, and our own in-house-crafted spirits until 11! See you soon!.
URL:https://boguesounddistillery.com/event/will-tony-show-live-plus-no-rules/
LOCATION:Bogue Sound Distillery\, 108 Bogue Commercial Dr\, Bogue\, NC\, 28570\, United States
CATEGORIES:Live Music
ATTACH;FMTTYPE=image/png:https://boguesounddistillery.com/wp-content/uploads/2025/01/02.01.png
END:VEVENT
BEGIN:VEVENT
DTSTART;TZID=America/New_York:20250202T140000
DTEND;TZID=America/New_York:20250202T170000
DTSTAMP:20260423T161001
CREATED:20250125T204720Z
LAST-MODIFIED:20250125T204720Z
UID:10491-1738504800-1738515600@boguesounddistillery.com
SUMMARY:John G. Franklin Live
DESCRIPTION:It’s John G. Franklin LIVE from 2 PM – 5 PM on another great Sunday Funday! \nWe’ll be serving up your favorite cocktails with our locally-crafted spirits and selling our bottled spirits from 1 PM – 6 PM. \nSee you soon!
URL:https://boguesounddistillery.com/event/john-g-franklin-live/
LOCATION:Bogue Sound Distillery\, 108 Bogue Commercial Dr\, Bogue\, NC\, 28570\, United States
CATEGORIES:Live Music
ATTACH;FMTTYPE=image/png:https://boguesounddistillery.com/wp-content/uploads/2025/01/02.02.png
END:VEVENT
BEGIN:VEVENT
DTSTART;TZID=America/New_York:20250207T180000
DTEND;TZID=America/New_York:20250207T230000
DTSTAMP:20260423T161001
CREATED:20250125T204720Z
LAST-MODIFIED:20250125T204720Z
UID:10502-1738951200-1738969200@boguesounddistillery.com
SUMMARY:Nostalgic Knights Live plus Taste of Vietnam
DESCRIPTION:Taste of Vietnam: 6 – 8pm \nNostalgic Knights Live : 7pm – 10pm. \nAs always\, we’ll be serving beer\, wine\, and our own in-house-crafted spirits until 11! See you soon!.
URL:https://boguesounddistillery.com/event/nostalgic-knights-live-plus-taste-of-vietnam/
LOCATION:Bogue Sound Distillery\, 108 Bogue Commercial Dr\, Bogue\, NC\, 28570\, United States
CATEGORIES:Live Music
ATTACH;FMTTYPE=image/png:https://boguesounddistillery.com/wp-content/uploads/2025/01/02.07.png
END:VEVENT
BEGIN:VEVENT
DTSTART;TZID=America/New_York:20250208T180000
DTEND;TZID=America/New_York:20250208T230000
DTSTAMP:20260423T161001
CREATED:20250125T204720Z
LAST-MODIFIED:20250125T204720Z
UID:10506-1739037600-1739055600@boguesounddistillery.com
SUMMARY:Southern Hellcats plus Burger Bus
DESCRIPTION:Burger Bus: 6 – 8pm \nSouthern Hellcats Live : 7pm – 10pm. \nAs always\, we’ll be serving beer\, wine\, and our own in-house-crafted spirits until 11! See you soon!.
URL:https://boguesounddistillery.com/event/southern-hellcats-plus-burger-bus/
LOCATION:Bogue Sound Distillery\, 108 Bogue Commercial Dr\, Bogue\, NC\, 28570\, United States
CATEGORIES:Live Music
ATTACH;FMTTYPE=image/png:https://boguesounddistillery.com/wp-content/uploads/2025/01/02.08.png
END:VEVENT
BEGIN:VEVENT
DTSTART;TZID=America/New_York:20250209T130000
DTEND;TZID=America/New_York:20250209T180000
DTSTAMP:20260423T161001
CREATED:20250125T204720Z
LAST-MODIFIED:20250206T183326Z
UID:10510-1739106000-1739124000@boguesounddistillery.com
SUMMARY:PreGame Party + Cecil Gillikin Live
DESCRIPTION:Join us for a Pre-Game Party\, Free Food & Cocktails from 1- 6 pm  Come early\, grab a drink\, and enjoy the tunes of Cecil Gillikin from 2-5 PM
URL:https://boguesounddistillery.com/event/cecil-gillikin-live-4/
LOCATION:Bogue Sound Distillery\, 108 Bogue Commercial Dr\, Bogue\, NC\, 28570\, United States
CATEGORIES:Live Music
ATTACH;FMTTYPE=image/png:https://boguesounddistillery.com/wp-content/uploads/2025/01/02.09-2-1.png
END:VEVENT
BEGIN:VEVENT
DTSTART;TZID=America/New_York:20250214T180000
DTEND;TZID=America/New_York:20250214T230000
DTSTAMP:20260423T161001
CREATED:20250125T204720Z
LAST-MODIFIED:20250125T204720Z
UID:10519-1739556000-1739574000@boguesounddistillery.com
SUMMARY:NRP Rhyme Live plus Pony Up Pizza Co.
DESCRIPTION:Pony Up Pizza Co: 6 – 8pm \nNRP Rhyme LIVE : 7pm – 10pm. \nAs always\, we’ll be serving beer\, wine\, and our own in-house-crafted spirits until 11! See you soon!.
URL:https://boguesounddistillery.com/event/nrp-rhyme-live-plus-pony-up-pizza-co-2/
LOCATION:Bogue Sound Distillery\, 108 Bogue Commercial Dr\, Bogue\, NC\, 28570\, United States
CATEGORIES:Live Music
ATTACH;FMTTYPE=image/png:https://boguesounddistillery.com/wp-content/uploads/2025/01/02.07-2.png
END:VEVENT
BEGIN:VEVENT
DTSTART;TZID=America/New_York:20250215T180000
DTEND;TZID=America/New_York:20250215T230000
DTSTAMP:20260423T161001
CREATED:20250210T205905Z
LAST-MODIFIED:20250212T192050Z
UID:10523-1739642400-1739660400@boguesounddistillery.com
SUMMARY:Coastal Ramblers + Clogging Contest Live
DESCRIPTION:Coastal Ramblers | 7-10 PM | Clogging contest with a cash prize! As always\, we’ll be serving beer\, wine\, and our own in-house-crafted spirits until 11! See you soon!
URL:https://boguesounddistillery.com/event/coastal-ramblers-live/
LOCATION:Bogue Sound Distillery\, 108 Bogue Commercial Dr\, Bogue\, NC\, 28570\, United States
CATEGORIES:Live Music
ATTACH;FMTTYPE=image/png:https://boguesounddistillery.com/wp-content/uploads/2025/02/02.08-2.png
END:VEVENT
BEGIN:VEVENT
DTSTART;TZID=America/New_York:20250216T140000
DTEND;TZID=America/New_York:20250216T170000
DTSTAMP:20260423T161001
CREATED:20250125T204720Z
LAST-MODIFIED:20250125T204720Z
UID:10525-1739714400-1739725200@boguesounddistillery.com
SUMMARY:Stephen Poole Live
DESCRIPTION:It’s Stephen Poole LIVE from 2 PM – 5 PM on another great Sunday Funday! \nWe’ll be serving up your favorite cocktails with our locally-crafted spirits and selling our bottled spirits from 1 PM – 6 PM. \nSee you soon!
URL:https://boguesounddistillery.com/event/stephen-poole-live-2/
LOCATION:Bogue Sound Distillery\, 108 Bogue Commercial Dr\, Bogue\, NC\, 28570\, United States
CATEGORIES:Live Music
ATTACH;FMTTYPE=image/png:https://boguesounddistillery.com/wp-content/uploads/2025/01/02.09-2.png
END:VEVENT
BEGIN:VEVENT
DTSTART;TZID=America/New_York:20250221T180000
DTEND;TZID=America/New_York:20250221T230000
DTSTAMP:20260423T161001
CREATED:20250210T202327Z
LAST-MODIFIED:20250210T202327Z
UID:10533-1740160800-1740178800@boguesounddistillery.com
SUMMARY:Salty Bones Live plus Garden of Eaten
DESCRIPTION:Garden of Eaten: 6pm – 8pm. \nSalty Bones LIVE : 7pm – 10pm. \nAs always\, we’ll be serving beer\, wine\, and our own in-house-crafted spirits until 11! See you soon!.
URL:https://boguesounddistillery.com/event/salty-bones-live-plus-garden-of-eaten/
LOCATION:Bogue Sound Distillery\, 108 Bogue Commercial Dr\, Bogue\, NC\, 28570\, United States
CATEGORIES:Live Music
ATTACH;FMTTYPE=image/png:https://boguesounddistillery.com/wp-content/uploads/2025/02/02.07.png
END:VEVENT
BEGIN:VEVENT
DTSTART;TZID=America/New_York:20250222T180000
DTEND;TZID=America/New_York:20250222T230000
DTSTAMP:20260423T161001
CREATED:20250125T204720Z
LAST-MODIFIED:20250125T204720Z
UID:10548-1740247200-1740265200@boguesounddistillery.com
SUMMARY:Dirty Blonde Band Live plus Tres Rosas
DESCRIPTION:Tres Rosas: 6pm – 8pm. \nDirty Blonde Band LIVE : 7pm – 10pm. \nAs always\, we’ll be serving beer\, wine\, and our own in-house-crafted spirits until 11! See you soon!
URL:https://boguesounddistillery.com/event/dirty-blonde-band-live-plus-tres-rosas-2/
LOCATION:Bogue Sound Distillery\, 108 Bogue Commercial Dr\, Bogue\, NC\, 28570\, United States
CATEGORIES:Live Music
ATTACH;FMTTYPE=image/png:https://boguesounddistillery.com/wp-content/uploads/2025/01/02.08-3.png
END:VEVENT
BEGIN:VEVENT
DTSTART;TZID=America/New_York:20250223T140000
DTEND;TZID=America/New_York:20250223T170000
DTSTAMP:20260423T161001
CREATED:20250125T204720Z
LAST-MODIFIED:20250125T204720Z
UID:10535-1740319200-1740330000@boguesounddistillery.com
SUMMARY:Bob Laverty Live
DESCRIPTION:It’s Bob Laverty LIVE from 2 PM – 5 PM on another great Sunday Funday! \nWe’ll be serving up your favorite cocktails with our locally-crafted spirits and selling our bottled spirits from 1 PM – 6 PM. \nSee you soon!
URL:https://boguesounddistillery.com/event/bob-laverty-live/
LOCATION:Bogue Sound Distillery\, 108 Bogue Commercial Dr\, Bogue\, NC\, 28570\, United States
CATEGORIES:Live Music
ATTACH;FMTTYPE=image/png:https://boguesounddistillery.com/wp-content/uploads/2025/01/02.09-3.png
END:VEVENT
END:VCALENDAR