BEGIN:VCALENDAR
VERSION:2.0
PRODID:-//Bogue Sound Distillery - ECPv6.15.20//NONSGML v1.0//EN
CALSCALE:GREGORIAN
METHOD:PUBLISH
X-WR-CALNAME:Bogue Sound Distillery
X-ORIGINAL-URL:https://boguesounddistillery.com
X-WR-CALDESC:Events for Bogue Sound Distillery
REFRESH-INTERVAL;VALUE=DURATION:PT1H
X-Robots-Tag:noindex
X-PUBLISHED-TTL:PT1H
BEGIN:VTIMEZONE
TZID:America/New_York
BEGIN:DAYLIGHT
TZOFFSETFROM:-0500
TZOFFSETTO:-0400
TZNAME:EDT
DTSTART:20230312T070000
END:DAYLIGHT
BEGIN:STANDARD
TZOFFSETFROM:-0400
TZOFFSETTO:-0500
TZNAME:EST
DTSTART:20231105T060000
END:STANDARD
BEGIN:DAYLIGHT
TZOFFSETFROM:-0500
TZOFFSETTO:-0400
TZNAME:EDT
DTSTART:20240310T070000
END:DAYLIGHT
BEGIN:STANDARD
TZOFFSETFROM:-0400
TZOFFSETTO:-0500
TZNAME:EST
DTSTART:20241103T060000
END:STANDARD
BEGIN:DAYLIGHT
TZOFFSETFROM:-0500
TZOFFSETTO:-0400
TZNAME:EDT
DTSTART:20250309T070000
END:DAYLIGHT
BEGIN:STANDARD
TZOFFSETFROM:-0400
TZOFFSETTO:-0500
TZNAME:EST
DTSTART:20251102T060000
END:STANDARD
END:VTIMEZONE
BEGIN:VEVENT
DTSTART;TZID=America/New_York:20240421T140000
DTEND;TZID=America/New_York:20240421T170000
DTSTAMP:20260420T043030
CREATED:20240326T142413Z
LAST-MODIFIED:20240326T142413Z
UID:9442-1713708000-1713718800@boguesounddistillery.com
SUMMARY:Stephen Poole Live
DESCRIPTION:We are excited to welcome back Stephen Poole Live from 2 PM – 5 PM on another great Sunday Funday!\nWe’ll be serving up your favorite cocktails with our locally-crafted spirits and selling our bottled spirits from 1 PM – 8 PM
URL:https://boguesounddistillery.com/event/stephen-poole-live-13/
LOCATION:NC
CATEGORIES:Live Music
ATTACH;FMTTYPE=image/png:https://boguesounddistillery.com/wp-content/uploads/2024/03/15.png
END:VEVENT
BEGIN:VEVENT
DTSTART;TZID=America/New_York:20240420T180000
DTEND;TZID=America/New_York:20240420T230000
DTSTAMP:20260420T043030
CREATED:20240326T142413Z
LAST-MODIFIED:20240326T142413Z
UID:9439-1713636000-1713654000@boguesounddistillery.com
SUMMARY:Dirty Blonde Band Live with Coastal Cay Fish Tacos
DESCRIPTION:Coastal Cay Fish Tacos: 6pm – 8pm\nDirty Blonde Band Live: 7pm – 10pm \nAs always\, we’ll be serving beer\, wine\, and our own in-house-crafted spirits until 11! See you soon!
URL:https://boguesounddistillery.com/event/dirty-blonde-band-live-with-coastal-cay-fish-tacos/
LOCATION:NC
CATEGORIES:Live Music
ATTACH;FMTTYPE=image/png:https://boguesounddistillery.com/wp-content/uploads/2024/03/14.png
END:VEVENT
BEGIN:VEVENT
DTSTART;TZID=America/New_York:20240419T180000
DTEND;TZID=America/New_York:20240419T230000
DTSTAMP:20260420T043030
CREATED:20240326T142413Z
LAST-MODIFIED:20240326T142413Z
UID:9436-1713549600-1713567600@boguesounddistillery.com
SUMMARY:The Will & Tony Show Live with Smokin' Joe's BBQ
DESCRIPTION:Smokin’ Joe’s BBQ: 6pm – 8pm\nThe Will & Tony Show Live: 7pm – 10pm \nAs always\, we’ll be serving beer\, wine\, and our own in-house-crafted spirits until 11! See you soon!
URL:https://boguesounddistillery.com/event/the-will-tony-show-live-with-smokin-joes-bbq/
LOCATION:NC
CATEGORIES:Live Music
ATTACH;FMTTYPE=image/png:https://boguesounddistillery.com/wp-content/uploads/2024/03/13.png
END:VEVENT
END:VCALENDAR